BEGIN:VCALENDAR
VERSION:2.0
PRODID:-//Beech Hollow Farms - ECPv6.15.17.1//NONSGML v1.0//EN
CALSCALE:GREGORIAN
METHOD:PUBLISH
X-WR-CALNAME:Beech Hollow Farms
X-ORIGINAL-URL:https://beechhollowfarms.com
X-WR-CALDESC:Events for Beech Hollow Farms
REFRESH-INTERVAL;VALUE=DURATION:PT1H
X-Robots-Tag:noindex
X-PUBLISHED-TTL:PT1H
BEGIN:VTIMEZONE
TZID:America/New_York
BEGIN:DAYLIGHT
TZOFFSETFROM:-0500
TZOFFSETTO:-0400
TZNAME:EDT
DTSTART:20190310T070000
END:DAYLIGHT
BEGIN:STANDARD
TZOFFSETFROM:-0400
TZOFFSETTO:-0500
TZNAME:EST
DTSTART:20191103T060000
END:STANDARD
BEGIN:DAYLIGHT
TZOFFSETFROM:-0500
TZOFFSETTO:-0400
TZNAME:EDT
DTSTART:20200308T070000
END:DAYLIGHT
BEGIN:STANDARD
TZOFFSETFROM:-0400
TZOFFSETTO:-0500
TZNAME:EST
DTSTART:20201101T060000
END:STANDARD
BEGIN:DAYLIGHT
TZOFFSETFROM:-0500
TZOFFSETTO:-0400
TZNAME:EDT
DTSTART:20210314T070000
END:DAYLIGHT
BEGIN:STANDARD
TZOFFSETFROM:-0400
TZOFFSETTO:-0500
TZNAME:EST
DTSTART:20211107T060000
END:STANDARD
BEGIN:DAYLIGHT
TZOFFSETFROM:-0500
TZOFFSETTO:-0400
TZNAME:EDT
DTSTART:20220313T070000
END:DAYLIGHT
BEGIN:STANDARD
TZOFFSETFROM:-0400
TZOFFSETTO:-0500
TZNAME:EST
DTSTART:20221106T060000
END:STANDARD
BEGIN:DAYLIGHT
TZOFFSETFROM:-0500
TZOFFSETTO:-0400
TZNAME:EDT
DTSTART:20230312T070000
END:DAYLIGHT
BEGIN:STANDARD
TZOFFSETFROM:-0400
TZOFFSETTO:-0500
TZNAME:EST
DTSTART:20231105T060000
END:STANDARD
END:VTIMEZONE
BEGIN:VTIMEZONE
TZID:UTC
BEGIN:STANDARD
TZOFFSETFROM:+0000
TZOFFSETTO:+0000
TZNAME:UTC
DTSTART:20190101T000000
END:STANDARD
END:VTIMEZONE
BEGIN:VEVENT
DTSTART;TZID=America/New_York:20220501T130000
DTEND;TZID=America/New_York:20220501T153000
DTSTAMP:20260419T151338
CREATED:20220121T150040Z
LAST-MODIFIED:20220124T195515Z
UID:27979-1651410000-1651419000@beechhollowfarms.com
SUMMARY:Plant Selection for the Native Plant Garden\, Part 1
DESCRIPTION:03/27/22 Feel Empowered to Prune\n2 pm - 3:30 pm Barbara Dorfman\nLearn how\, why\, and when\, to prune.  With the right tools\, gardeners and homeowners can do the job themselves or supervise family members\, instead of being at the mercy of unskilled landscapers with hedge trimmers and chainsaws. \nSign up here:
URL:https://beechhollowfarms.com/classes/plant-selection-for-the-native-plant-garden-part-1/
LOCATION:Beech Hollow Atlanta Metro\, 389 North Clarendon Ave\, Scottdale\, GA\, 30079\, United States
CATEGORIES:Environmental Education,Special Events
END:VEVENT
BEGIN:VEVENT
DTSTART;TZID=America/New_York:20220424T140000
DTEND;TZID=America/New_York:20220424T153000
DTSTAMP:20260419T151338
CREATED:20220121T150049Z
LAST-MODIFIED:20220124T195207Z
UID:27974-1650808800-1650814200@beechhollowfarms.com
SUMMARY:Composting - Black Gold
DESCRIPTION:03/27/22 Feel Empowered to Prune\n2 pm - 3:30 pm Barbara Dorfman\nLearn how\, why\, and when\, to prune.  With the right tools\, gardeners and homeowners can do the job themselves or supervise family members\, instead of being at the mercy of unskilled landscapers with hedge trimmers and chainsaws. \nSign up here:
URL:https://beechhollowfarms.com/classes/composting-black-gold/
LOCATION:Beech Hollow Atlanta Metro\, 389 North Clarendon Ave\, Scottdale\, GA\, 30079\, United States
CATEGORIES:Environmental Education,Special Events
END:VEVENT
BEGIN:VEVENT
DTSTART;TZID=America/New_York:20220403T140000
DTEND;TZID=America/New_York:20220403T153000
DTSTAMP:20260419T151338
CREATED:20220121T150046Z
LAST-MODIFIED:20220124T194648Z
UID:27970-1648994400-1648999800@beechhollowfarms.com
SUMMARY:The How To of Planting
DESCRIPTION:03/27/22 Feel Empowered to Prune\n2 pm - 3:30 pm Barbara Dorfman\nLearn how\, why\, and when\, to prune.  With the right tools\, gardeners and homeowners can do the job themselves or supervise family members\, instead of being at the mercy of unskilled landscapers with hedge trimmers and chainsaws. \nSign up here:
URL:https://beechhollowfarms.com/classes/the-how-to-of-planting/
LOCATION:Beech Hollow Atlanta Metro\, 389 North Clarendon Ave\, Scottdale\, GA\, 30079\, United States
CATEGORIES:Environmental Education,Special Events
END:VEVENT
BEGIN:VEVENT
DTSTART;TZID=America/New_York:20220327T140000
DTEND;TZID=America/New_York:20220327T153000
DTSTAMP:20260419T151338
CREATED:20220121T150027Z
LAST-MODIFIED:20220124T194245Z
UID:27963-1648389600-1648395000@beechhollowfarms.com
SUMMARY:Feel Empowered to Prune
DESCRIPTION:03/27/22 Feel Empowered to Prune\n2 pm - 3:30 pm Barbara Dorfman\nLearn how\, why\, and when\, to prune.  With the right tools\, gardeners and homeowners can do the job themselves or supervise family members\, instead of being at the mercy of unskilled landscapers with hedge trimmers and chainsaws. \nSign up here:
URL:https://beechhollowfarms.com/classes/feel-empowered-to-prune/
LOCATION:Beech Hollow Atlanta Metro\, 389 North Clarendon Ave\, Scottdale\, GA\, 30079\, United States
CATEGORIES:Environmental Education,Special Events
END:VEVENT
BEGIN:VEVENT
DTSTART;TZID=America/New_York:20220313T140000
DTEND;TZID=America/New_York:20220313T153000
DTSTAMP:20260419T151338
CREATED:20220121T150005Z
LAST-MODIFIED:20220124T192438Z
UID:27967-1647180000-1647185400@beechhollowfarms.com
SUMMARY:Invite a Monarch to Lunch
DESCRIPTION:03/27/22 Feel Empowered to Prune\n2 pm - 3:30 pm Barbara Dorfman\nLearn how\, why\, and when\, to prune.  With the right tools\, gardeners and homeowners can do the job themselves or supervise family members\, instead of being at the mercy of unskilled landscapers with hedge trimmers and chainsaws. \nSign up here:
URL:https://beechhollowfarms.com/classes/invite-a-monarch-to-lunch/
LOCATION:Beech Hollow Atlanta Metro\, 389 North Clarendon Ave\, Scottdale\, GA\, 30079\, United States
CATEGORIES:Environmental Education,Special Events
END:VEVENT
BEGIN:VEVENT
DTSTART;TZID=America/New_York:20200501T080000
DTEND;TZID=America/New_York:20200501T130000
DTSTAMP:20260419T151338
CREATED:20191206T150046Z
LAST-MODIFIED:20200114T193948Z
UID:23002-1588320000-1588338000@beechhollowfarms.com
SUMMARY:Rosalynn Carter Butterfly Trail 2020 Spring Symposium
DESCRIPTION:03/27/22 Feel Empowered to Prune\n2 pm - 3:30 pm Barbara Dorfman\nLearn how\, why\, and when\, to prune.  With the right tools\, gardeners and homeowners can do the job themselves or supervise family members\, instead of being at the mercy of unskilled landscapers with hedge trimmers and chainsaws. \nSign up here:
URL:https://beechhollowfarms.com/classes/rosalynncarterbutterflytrail/
LOCATION:Plains Community Center\, 106 Main Street\, Plains\, GA\, 31780\, United States
CATEGORIES:Environmental Education,Native Plant Sales,Native Plant Symposium,Plant Sales
ATTACH;FMTTYPE=image/jpeg:https://beechhollowfarms.com/wp-content/uploads/2019/12/Sweetshrub.jpg
END:VEVENT
BEGIN:VEVENT
DTSTART;TZID=UTC:20200229T080000
DTEND;TZID=UTC:20200229T170000
DTSTAMP:20260419T151338
CREATED:20191206T150026Z
LAST-MODIFIED:20191216T031528Z
UID:14346-1582963200-1582995600@beechhollowfarms.com
SUMMARY:GNPS Symposium 2020
DESCRIPTION:03/27/22 Feel Empowered to Prune\n2 pm - 3:30 pm Barbara Dorfman\nLearn how\, why\, and when\, to prune.  With the right tools\, gardeners and homeowners can do the job themselves or supervise family members\, instead of being at the mercy of unskilled landscapers with hedge trimmers and chainsaws. \nSign up here:
URL:https://beechhollowfarms.com/classes/gnps-symposium-2020/
LOCATION:GNPS Symposium 2020\, Middle State University GA\, 100 University Parkway\, Macon\, GA\, 31206\, United States
CATEGORIES:Environmental Education,Native Plant Sales,Native Plant Symposium,Plant Sales,Special Events
ATTACH;FMTTYPE=image/jpeg:https://beechhollowfarms.com/wp-content/uploads/2019/12/GNPS_FlowerHead_PMS625_PMS5803_ExLg_RGB-scaled.jpg
END:VEVENT
END:VCALENDAR